BEGIN:VCALENDAR
VERSION:2.0
PRODID:-//Visit Redcliffe QLD - ECPv5.4.0//NONSGML v1.0//EN
CALSCALE:GREGORIAN
METHOD:PUBLISH
X-WR-CALNAME:Visit Redcliffe QLD
X-ORIGINAL-URL:https://visitredcliffeqld.com.au
X-WR-CALDESC:Events for Visit Redcliffe QLD
BEGIN:VTIMEZONE
TZID:Australia/Brisbane
BEGIN:STANDARD
TZOFFSETFROM:+1000
TZOFFSETTO:+1000
TZNAME:AEST
DTSTART:20210101T000000
END:STANDARD
END:VTIMEZONE
BEGIN:VEVENT
DTSTART;TZID=Australia/Brisbane:20210320T113000
DTEND;TZID=Australia/Brisbane:20210320T210000
DTSTAMP:20210226T103402
CREATED:20210202T010740Z
LAST-MODIFIED:20210223T023447Z
UID:5092-1616239800-1616274000@visitredcliffeqld.com.au
SUMMARY:Marchtoberfest Redcliffe 2021
DESCRIPTION:
URL:https://visitredcliffeqld.com.au/event/marchtoberfest-redcliffe-2021/
LOCATION:Redcliffe Showgrounds\, Redcliffe Showgrounds\, Redcliffe\, QLD\, 4020\, Australia
CATEGORIES:Local Redcliffe Events
ORGANIZER;CN="Beam%20Entertainment%20presents%20Marchtoberfest%20Redcliffe%202021":MAILTO:craig@beamentertainment.com.au
END:VEVENT
END:VCALENDAR